View In:
ArcGIS JavaScript
ArcGIS.com Map
Google Earth
ArcMap
ArcGIS Explorer
View Footprint In:
ArcGIS.com Map
Service Description:
Map Name: Layers
Legend
All Layers and Tables
Layers:
Description:
Copyright Text:
Spatial Reference:
4326
(4326)
Single Fused Map Cache: true
Tile Info:
- Height: 256
- Width: 256
- DPI: 96
-
Levels of Detail: 3
-
Level ID: 0
[ Start Tile, End Tile ]
- Resolution: 0.005493164062500001
- Scale: 2308574.945771484
-
Level ID: 1
[ Start Tile, End Tile ]
- Resolution: 0.0027465820312500004
- Scale: 1154287.472885742
-
Level ID: 2
[ Start Tile, End Tile ]
- Resolution: 0.0013732910156250002
- Scale: 577143.736442871
- Format: PNG
- Compression Quality: 0.0
- Origin: X: -400.0
Y: 399.9999999999998
- Spatial Reference: 4326
(4326)
Initial Extent:
XMin: 116.42577578424431
YMin: 33.85365186689035
XMax: 117.88779012609481
YMax: 34.707231957384884
Spatial Reference: 4326
Full Extent:
XMin: 116.12840555768796
YMin: 33.25117627001588
XMax: 118.21469599592089
YMax: 34.67173765963366
Spatial Reference: 4326
Units: esriDecimalDegrees
Supported Image Format Types: PNG32,PNG24,PNG,JPG,DIB,TIFF,EMF,PS,PDF,GIF,SVG,SVGZ,BMP
Document Info:
Title:
Author:
Comments:
Subject:
Category:
Keywords:
AntialiasingMode: None
TextAntialiasingMode: Force
Supports Dynamic Layers: false
MaxRecordCount: 1000
MaxImageHeight: 4096
MaxImageWidth: 4096
Supported Query Formats: JSON, AMF
Min Scale: 2308574.945771484
Max Scale: 577143.736442871
Child Resources:
Info
Supported Operations:
Export Map
Identify
Find
Return Updates
Generate KML