{
 "currentVersion": 10.22,
 "serviceDescription": "",
 "mapName": "Layers",
 "description": "",
 "copyrightText": "",
 "supportsDynamicLayers": false,
 "layers": [
  {
   "id": 0,
   "name": "BuffRing",
   "parentLayerId": -1,
   "defaultVisibility": true,
   "subLayerIds": null,
   "minScale": 0,
   "maxScale": 0
  }
 ],
 "tables": [],
 "spatialReference": {
  "wkid": 4326,
  "latestWkid": 4326
 },
 "singleFusedMapCache": true,
 "tileInfo": {
  "rows": 256,
  "cols": 256,
  "dpi": 96,
  "format": "PNG",
  "compressionQuality": 0,
  "origin": {
   "x": -400,
   "y": 399.9999999999998
  },
  "spatialReference": {
   "wkid": 4326,
   "latestWkid": 4326
  },
  "lods": [
   {
    "level": 0,
    "resolution": 0.005493164062500001,
    "scale": 2308574.945771484
   },
   {
    "level": 1,
    "resolution": 0.0027465820312500004,
    "scale": 1154287.472885742
   },
   {
    "level": 2,
    "resolution": 0.0013732910156250002,
    "scale": 577143.736442871
   }
  ]
 },
 "initialExtent": {
  "xmin": 116.42577578424431,
  "ymin": 33.85365186689035,
  "xmax": 117.88779012609481,
  "ymax": 34.707231957384884,
  "spatialReference": {
   "cs": "gcs",
   "wkid": 4326
  }
 },
 "fullExtent": {
  "xmin": 116.12840555768796,
  "ymin": 33.25117627001588,
  "xmax": 118.21469599592089,
  "ymax": 34.67173765963366,
  "spatialReference": {
   "cs": "gcs",
   "wkid": 4326
  }
 },
 "minScale": 2308574.945771484,
 "maxScale": 577143.736442871,
 "units": "esriDecimalDegrees",
 "supportedImageFormatTypes": "PNG32,PNG24,PNG,JPG,DIB,TIFF,EMF,PS,PDF,GIF,SVG,SVGZ,BMP",
 "documentInfo": {
  "Title": "",
  "Author": "",
  "Comments": "",
  "Subject": "",
  "Category": "",
  "AntialiasingMode": "None",
  "TextAntialiasingMode": "Force",
  "Keywords": ""
 },
 "capabilities": "Map,Query,Data",
 "supportedQueryFormats": "JSON, AMF",
 "exportTilesAllowed": false,
 "maxRecordCount": 1000,
 "maxImageHeight": 4096,
 "maxImageWidth": 4096,
 "supportedExtensions": "KmlServer"
}
