{
 "currentVersion": 10.22,
 "serviceDescription": "",
 "mapName": "Layers",
 "description": "",
 "copyrightText": "",
 "supportsDynamicLayers": false,
 "layers": [
  {
   "id": 0,
   "name": "GAREXIANPLAnno",
   "parentLayerId": -1,
   "defaultVisibility": true,
   "subLayerIds": [
    1
   ],
   "minScale": 0,
   "maxScale": 600000
  },
  {
   "id": 1,
   "name": "Default",
   "parentLayerId": 0,
   "defaultVisibility": true,
   "subLayerIds": null,
   "minScale": 0,
   "maxScale": 0
  },
  {
   "id": 2,
   "name": "注记",
   "parentLayerId": -1,
   "defaultVisibility": true,
   "subLayerIds": [
    3,
    11,
    19,
    27,
    28
   ],
   "minScale": 0,
   "maxScale": 0
  },
  {
   "id": 3,
   "name": "地名",
   "parentLayerId": 2,
   "defaultVisibility": true,
   "subLayerIds": [
    4,
    5,
    6,
    7,
    8,
    9,
    10
   ],
   "minScale": 0,
   "maxScale": 0
  },
  {
   "id": 4,
   "name": "市",
   "parentLayerId": 3,
   "defaultVisibility": true,
   "subLayerIds": null,
   "minScale": 0,
   "maxScale": 30000
  },
  {
   "id": 5,
   "name": "区县11",
   "parentLayerId": 3,
   "defaultVisibility": true,
   "subLayerIds": null,
   "minScale": 300000,
   "maxScale": 200000
  },
  {
   "id": 6,
   "name": "区县12",
   "parentLayerId": 3,
   "defaultVisibility": true,
   "subLayerIds": null,
   "minScale": 200000,
   "maxScale": 30000
  },
  {
   "id": 7,
   "name": "乡镇",
   "parentLayerId": 3,
   "defaultVisibility": true,
   "subLayerIds": null,
   "minScale": 200000,
   "maxScale": 3000
  },
  {
   "id": 8,
   "name": "街道",
   "parentLayerId": 3,
   "defaultVisibility": true,
   "subLayerIds": null,
   "minScale": 100000,
   "maxScale": 3000
  },
  {
   "id": 9,
   "name": "村",
   "parentLayerId": 3,
   "defaultVisibility": true,
   "subLayerIds": null,
   "minScale": 100000,
   "maxScale": 3000
  },
  {
   "id": 10,
   "name": "自然村",
   "parentLayerId": 3,
   "defaultVisibility": true,
   "subLayerIds": null,
   "minScale": 20000,
   "maxScale": 3000
  },
  {
   "id": 11,
   "name": "POI",
   "parentLayerId": 2,
   "defaultVisibility": true,
   "subLayerIds": [
    12,
    13,
    14,
    15,
    16,
    17,
    18
   ],
   "minScale": 0,
   "maxScale": 0
  },
  {
   "id": 12,
   "name": "100701",
   "parentLayerId": 11,
   "defaultVisibility": true,
   "subLayerIds": null,
   "minScale": 20000,
   "maxScale": 3000
  },
  {
   "id": 13,
   "name": "GPLNPT兴趣及地理名称Main17ZL1",
   "parentLayerId": 11,
   "defaultVisibility": true,
   "subLayerIds": null,
   "minScale": 5000,
   "maxScale": 4000
  },
  {
   "id": 14,
   "name": "GPLNPT兴趣及地理名称17ZL1",
   "parentLayerId": 11,
   "defaultVisibility": true,
   "subLayerIds": null,
   "minScale": 5000,
   "maxScale": 4000
  },
  {
   "id": 15,
   "name": "GPLNPT兴趣及地理名称Main18ZL1",
   "parentLayerId": 11,
   "defaultVisibility": true,
   "subLayerIds": null,
   "minScale": 4000,
   "maxScale": 0
  },
  {
   "id": 16,
   "name": "GPLNPT兴趣及地理名称18ZL1",
   "parentLayerId": 11,
   "defaultVisibility": true,
   "subLayerIds": null,
   "minScale": 4000,
   "maxScale": 0
  },
  {
   "id": 17,
   "name": "GPLNPT兴趣及地理名称Main1516ZL1",
   "parentLayerId": 11,
   "defaultVisibility": true,
   "subLayerIds": null,
   "minScale": 20000,
   "maxScale": 9000
  },
  {
   "id": 18,
   "name": "GPLNPT兴趣及地理名称1516ZL1",
   "parentLayerId": 11,
   "defaultVisibility": true,
   "subLayerIds": null,
   "minScale": 20000,
   "maxScale": 5000
  },
  {
   "id": 19,
   "name": "安徽省居民点",
   "parentLayerId": 2,
   "defaultVisibility": true,
   "subLayerIds": [
    20,
    21,
    22,
    23,
    24,
    25,
    26
   ],
   "minScale": 0,
   "maxScale": 0
  },
  {
   "id": 20,
   "name": "公路(线)12-13",
   "parentLayerId": 19,
   "defaultVisibility": true,
   "subLayerIds": null,
   "minScale": 150000,
   "maxScale": 40000
  },
  {
   "id": 21,
   "name": "公路(线)10-11",
   "parentLayerId": 19,
   "defaultVisibility": true,
   "subLayerIds": null,
   "minScale": 600000,
   "maxScale": 150000
  },
  {
   "id": 22,
   "name": "水系(多边形)18056",
   "parentLayerId": 19,
   "defaultVisibility": true,
   "subLayerIds": null,
   "minScale": 30000,
   "maxScale": 3000
  },
  {
   "id": 23,
   "name": "水系(多边形)14",
   "parentLayerId": 19,
   "defaultVisibility": true,
   "subLayerIds": null,
   "minScale": 40000,
   "maxScale": 30000
  },
  {
   "id": 24,
   "name": "水系(多边形)13",
   "parentLayerId": 19,
   "defaultVisibility": true,
   "subLayerIds": null,
   "minScale": 80000,
   "maxScale": 40000
  },
  {
   "id": 25,
   "name": "GHYDPLda12",
   "parentLayerId": 19,
   "defaultVisibility": true,
   "subLayerIds": null,
   "minScale": 200000,
   "maxScale": 80000
  },
  {
   "id": 26,
   "name": "GHYDPLda11",
   "parentLayerId": 19,
   "defaultVisibility": true,
   "subLayerIds": null,
   "minScale": 300000,
   "maxScale": 200000
  },
  {
   "id": 27,
   "name": "GAREXIANPL",
   "parentLayerId": 2,
   "defaultVisibility": true,
   "subLayerIds": null,
   "minScale": 0,
   "maxScale": 600000
  },
  {
   "id": 28,
   "name": "500Anno",
   "parentLayerId": 2,
   "defaultVisibility": true,
   "subLayerIds": [
    29,
    54,
    55,
    56,
    57,
    58
   ],
   "minScale": 4000,
   "maxScale": 0
  },
  {
   "id": 29,
   "name": "高速国省注记",
   "parentLayerId": 28,
   "defaultVisibility": true,
   "subLayerIds": [
    30,
    34,
    38,
    42,
    46,
    50
   ],
   "minScale": 0,
   "maxScale": 0
  },
  {
   "id": 30,
   "name": "城际名称L18Anno",
   "parentLayerId": 29,
   "defaultVisibility": true,
   "subLayerIds": [
    31,
    32,
    33
   ],
   "minScale": 3000,
   "maxScale": 2000
  },
  {
   "id": 31,
   "name": "高速公路",
   "parentLayerId": 30,
   "defaultVisibility": true,
   "subLayerIds": null,
   "minScale": 0,
   "maxScale": 0
  },
  {
   "id": 32,
   "name": "快速路、国道编号",
   "parentLayerId": 30,
   "defaultVisibility": true,
   "subLayerIds": null,
   "minScale": 0,
   "maxScale": 0
  },
  {
   "id": 33,
   "name": "省道编号",
   "parentLayerId": 30,
   "defaultVisibility": true,
   "subLayerIds": null,
   "minScale": 0,
   "maxScale": 0
  },
  {
   "id": 34,
   "name": "城际名称L19Anno",
   "parentLayerId": 29,
   "defaultVisibility": true,
   "subLayerIds": [
    35,
    36,
    37
   ],
   "minScale": 2000,
   "maxScale": 1000
  },
  {
   "id": 35,
   "name": "高速公路",
   "parentLayerId": 34,
   "defaultVisibility": true,
   "subLayerIds": null,
   "minScale": 0,
   "maxScale": 0
  },
  {
   "id": 36,
   "name": "快速路、国道编号",
   "parentLayerId": 34,
   "defaultVisibility": true,
   "subLayerIds": null,
   "minScale": 0,
   "maxScale": 0
  },
  {
   "id": 37,
   "name": "省道编号",
   "parentLayerId": 34,
   "defaultVisibility": true,
   "subLayerIds": null,
   "minScale": 0,
   "maxScale": 0
  },
  {
   "id": 38,
   "name": "城际名称L20Anno",
   "parentLayerId": 29,
   "defaultVisibility": true,
   "subLayerIds": [
    39,
    40,
    41
   ],
   "minScale": 1000,
   "maxScale": 0
  },
  {
   "id": 39,
   "name": "高速公路",
   "parentLayerId": 38,
   "defaultVisibility": true,
   "subLayerIds": null,
   "minScale": 0,
   "maxScale": 0
  },
  {
   "id": 40,
   "name": "快速路、国道编号",
   "parentLayerId": 38,
   "defaultVisibility": true,
   "subLayerIds": null,
   "minScale": 0,
   "maxScale": 0
  },
  {
   "id": 41,
   "name": "省道编号",
   "parentLayerId": 38,
   "defaultVisibility": true,
   "subLayerIds": null,
   "minScale": 0,
   "maxScale": 0
  },
  {
   "id": 42,
   "name": "城际编号L18Anno",
   "parentLayerId": 29,
   "defaultVisibility": true,
   "subLayerIds": [
    43,
    44,
    45
   ],
   "minScale": 3000,
   "maxScale": 2000
  },
  {
   "id": 43,
   "name": "高速公路",
   "parentLayerId": 42,
   "defaultVisibility": true,
   "subLayerIds": null,
   "minScale": 0,
   "maxScale": 0
  },
  {
   "id": 44,
   "name": "快速路、国道编号",
   "parentLayerId": 42,
   "defaultVisibility": true,
   "subLayerIds": null,
   "minScale": 0,
   "maxScale": 0
  },
  {
   "id": 45,
   "name": "省道编号",
   "parentLayerId": 42,
   "defaultVisibility": true,
   "subLayerIds": null,
   "minScale": 0,
   "maxScale": 0
  },
  {
   "id": 46,
   "name": "城际编号L19Anno",
   "parentLayerId": 29,
   "defaultVisibility": true,
   "subLayerIds": [
    47,
    48,
    49
   ],
   "minScale": 2000,
   "maxScale": 1000
  },
  {
   "id": 47,
   "name": "高速公路",
   "parentLayerId": 46,
   "defaultVisibility": true,
   "subLayerIds": null,
   "minScale": 0,
   "maxScale": 0
  },
  {
   "id": 48,
   "name": "快速路、国道编号",
   "parentLayerId": 46,
   "defaultVisibility": true,
   "subLayerIds": null,
   "minScale": 0,
   "maxScale": 0
  },
  {
   "id": 49,
   "name": "省道编号",
   "parentLayerId": 46,
   "defaultVisibility": true,
   "subLayerIds": null,
   "minScale": 0,
   "maxScale": 0
  },
  {
   "id": 50,
   "name": "城际编号L20Anno",
   "parentLayerId": 29,
   "defaultVisibility": true,
   "subLayerIds": [
    51,
    52,
    53
   ],
   "minScale": 1000,
   "maxScale": 0
  },
  {
   "id": 51,
   "name": "高速公路",
   "parentLayerId": 50,
   "defaultVisibility": true,
   "subLayerIds": null,
   "minScale": 0,
   "maxScale": 0
  },
  {
   "id": 52,
   "name": "快速路、国道编号",
   "parentLayerId": 50,
   "defaultVisibility": true,
   "subLayerIds": null,
   "minScale": 0,
   "maxScale": 0
  },
  {
   "id": 53,
   "name": "省道编号",
   "parentLayerId": 50,
   "defaultVisibility": true,
   "subLayerIds": null,
   "minScale": 0,
   "maxScale": 0
  },
  {
   "id": 54,
   "name": "乡镇",
   "parentLayerId": 28,
   "defaultVisibility": true,
   "subLayerIds": null,
   "minScale": 150000,
   "maxScale": 0
  },
  {
   "id": 55,
   "name": "街道",
   "parentLayerId": 28,
   "defaultVisibility": true,
   "subLayerIds": null,
   "minScale": 4000,
   "maxScale": 0
  },
  {
   "id": 56,
   "name": "村",
   "parentLayerId": 28,
   "defaultVisibility": true,
   "subLayerIds": null,
   "minScale": 4000,
   "maxScale": 0
  },
  {
   "id": 57,
   "name": "自然村",
   "parentLayerId": 28,
   "defaultVisibility": true,
   "subLayerIds": null,
   "minScale": 4000,
   "maxScale": 0
  },
  {
   "id": 58,
   "name": "水系(多边形)",
   "parentLayerId": 28,
   "defaultVisibility": true,
   "subLayerIds": null,
   "minScale": 0,
   "maxScale": 0
  },
  {
   "id": 59,
   "name": "500",
   "parentLayerId": -1,
   "defaultVisibility": false,
   "subLayerIds": [
    60,
    61,
    62,
    63
   ],
   "minScale": 4000,
   "maxScale": 0
  },
  {
   "id": 60,
   "name": "500居民地面",
   "parentLayerId": 59,
   "defaultVisibility": true,
   "subLayerIds": null,
   "minScale": 0,
   "maxScale": 0
  },
  {
   "id": 61,
   "name": "500水系(多边形)",
   "parentLayerId": 59,
   "defaultVisibility": true,
   "subLayerIds": null,
   "minScale": 0,
   "maxScale": 0
  },
  {
   "id": 62,
   "name": "500植被(多边形)",
   "parentLayerId": 59,
   "defaultVisibility": true,
   "subLayerIds": null,
   "minScale": 0,
   "maxScale": 0
  },
  {
   "id": 63,
   "name": "DLG500_B",
   "parentLayerId": 59,
   "defaultVisibility": true,
   "subLayerIds": null,
   "minScale": 0,
   "maxScale": 0
  },
  {
   "id": 64,
   "name": "17",
   "parentLayerId": -1,
   "defaultVisibility": false,
   "subLayerIds": [
    65,
    66,
    68,
    69,
    70,
    71,
    72
   ],
   "minScale": 5000,
   "maxScale": 4000
  },
  {
   "id": 65,
   "name": "境界(线)",
   "parentLayerId": 64,
   "defaultVisibility": true,
   "subLayerIds": null,
   "minScale": 0,
   "maxScale": 0
  },
  {
   "id": 66,
   "name": "居民地面",
   "parentLayerId": 64,
   "defaultVisibility": true,
   "subLayerIds": [
    67
   ],
   "minScale": 0,
   "maxScale": 0
  },
  {
   "id": 67,
   "name": "全省",
   "parentLayerId": 66,
   "defaultVisibility": true,
   "subLayerIds": null,
   "minScale": 50000,
   "maxScale": 0
  },
  {
   "id": 68,
   "name": "GDROALN",
   "parentLayerId": 64,
   "defaultVisibility": true,
   "subLayerIds": null,
   "minScale": 0,
   "maxScale": 0
  },
  {
   "id": 69,
   "name": "GHYDLN",
   "parentLayerId": 64,
   "defaultVisibility": true,
   "subLayerIds": null,
   "minScale": 0,
   "maxScale": 0
  },
  {
   "id": 70,
   "name": "GHYDPLxiao",
   "parentLayerId": 64,
   "defaultVisibility": true,
   "subLayerIds": null,
   "minScale": 0,
   "maxScale": 0
  },
  {
   "id": 71,
   "name": "植被(多边形)",
   "parentLayerId": 64,
   "defaultVisibility": true,
   "subLayerIds": null,
   "minScale": 0,
   "maxScale": 0
  },
  {
   "id": 72,
   "name": "GAREXIANPL",
   "parentLayerId": 64,
   "defaultVisibility": true,
   "subLayerIds": null,
   "minScale": 0,
   "maxScale": 0
  },
  {
   "id": 73,
   "name": "16",
   "parentLayerId": -1,
   "defaultVisibility": false,
   "subLayerIds": [
    74,
    75,
    77,
    78,
    79,
    80
   ],
   "minScale": 10000,
   "maxScale": 9000
  },
  {
   "id": 74,
   "name": "境界(线)",
   "parentLayerId": 73,
   "defaultVisibility": true,
   "subLayerIds": null,
   "minScale": 0,
   "maxScale": 0
  },
  {
   "id": 75,
   "name": "居民地面",
   "parentLayerId": 73,
   "defaultVisibility": true,
   "subLayerIds": [
    76
   ],
   "minScale": 0,
   "maxScale": 0
  },
  {
   "id": 76,
   "name": "全省",
   "parentLayerId": 75,
   "defaultVisibility": true,
   "subLayerIds": null,
   "minScale": 50000,
   "maxScale": 0
  },
  {
   "id": 77,
   "name": "GHYDLN",
   "parentLayerId": 73,
   "defaultVisibility": true,
   "subLayerIds": null,
   "minScale": 0,
   "maxScale": 0
  },
  {
   "id": 78,
   "name": "GHYDPLxiao",
   "parentLayerId": 73,
   "defaultVisibility": true,
   "subLayerIds": null,
   "minScale": 0,
   "maxScale": 0
  },
  {
   "id": 79,
   "name": "植被(多边形)",
   "parentLayerId": 73,
   "defaultVisibility": true,
   "subLayerIds": null,
   "minScale": 0,
   "maxScale": 0
  },
  {
   "id": 80,
   "name": "GAREXIANPL",
   "parentLayerId": 73,
   "defaultVisibility": true,
   "subLayerIds": null,
   "minScale": 0,
   "maxScale": 0
  },
  {
   "id": 81,
   "name": "15_18056",
   "parentLayerId": -1,
   "defaultVisibility": false,
   "subLayerIds": [
    82,
    83,
    85,
    86,
    87,
    88
   ],
   "minScale": 20000,
   "maxScale": 10000
  },
  {
   "id": 82,
   "name": "境界(线)",
   "parentLayerId": 81,
   "defaultVisibility": true,
   "subLayerIds": null,
   "minScale": 0,
   "maxScale": 0
  },
  {
   "id": 83,
   "name": "居民地面",
   "parentLayerId": 81,
   "defaultVisibility": true,
   "subLayerIds": [
    84
   ],
   "minScale": 0,
   "maxScale": 0
  },
  {
   "id": 84,
   "name": "全省",
   "parentLayerId": 83,
   "defaultVisibility": true,
   "subLayerIds": null,
   "minScale": 50000,
   "maxScale": 0
  },
  {
   "id": 85,
   "name": "GHYDLN",
   "parentLayerId": 81,
   "defaultVisibility": true,
   "subLayerIds": null,
   "minScale": 0,
   "maxScale": 0
  },
  {
   "id": 86,
   "name": "GHYDPLxiao",
   "parentLayerId": 81,
   "defaultVisibility": true,
   "subLayerIds": null,
   "minScale": 0,
   "maxScale": 0
  },
  {
   "id": 87,
   "name": "植被(多边形)",
   "parentLayerId": 81,
   "defaultVisibility": true,
   "subLayerIds": null,
   "minScale": 0,
   "maxScale": 0
  },
  {
   "id": 88,
   "name": "GAREXIANPL",
   "parentLayerId": 81,
   "defaultVisibility": true,
   "subLayerIds": null,
   "minScale": 0,
   "maxScale": 0
  },
  {
   "id": 89,
   "name": "14",
   "parentLayerId": -1,
   "defaultVisibility": false,
   "subLayerIds": [
    90,
    91,
    93,
    94
   ],
   "minScale": 40000,
   "maxScale": 30000
  },
  {
   "id": 90,
   "name": "境界(线)",
   "parentLayerId": 89,
   "defaultVisibility": true,
   "subLayerIds": null,
   "minScale": 0,
   "maxScale": 0
  },
  {
   "id": 91,
   "name": "居民地面",
   "parentLayerId": 89,
   "defaultVisibility": true,
   "subLayerIds": [
    92
   ],
   "minScale": 0,
   "maxScale": 0
  },
  {
   "id": 92,
   "name": "全省",
   "parentLayerId": 91,
   "defaultVisibility": true,
   "subLayerIds": null,
   "minScale": 50000,
   "maxScale": 0
  },
  {
   "id": 93,
   "name": "植被(多边形)",
   "parentLayerId": 89,
   "defaultVisibility": true,
   "subLayerIds": null,
   "minScale": 0,
   "maxScale": 0
  },
  {
   "id": 94,
   "name": "GAREXIANPL",
   "parentLayerId": 89,
   "defaultVisibility": true,
   "subLayerIds": null,
   "minScale": 0,
   "maxScale": 0
  },
  {
   "id": 95,
   "name": "13",
   "parentLayerId": -1,
   "defaultVisibility": false,
   "subLayerIds": [
    96,
    97
   ],
   "minScale": 80000,
   "maxScale": 70000
  },
  {
   "id": 96,
   "name": "境界(线)",
   "parentLayerId": 95,
   "defaultVisibility": true,
   "subLayerIds": null,
   "minScale": 0,
   "maxScale": 0
  },
  {
   "id": 97,
   "name": "GAREXIANPL",
   "parentLayerId": 95,
   "defaultVisibility": true,
   "subLayerIds": null,
   "minScale": 0,
   "maxScale": 0
  },
  {
   "id": 98,
   "name": "12",
   "parentLayerId": -1,
   "defaultVisibility": false,
   "subLayerIds": [
    99,
    100,
    101
   ],
   "minScale": 150000,
   "maxScale": 140000
  },
  {
   "id": 99,
   "name": "境界(线)",
   "parentLayerId": 98,
   "defaultVisibility": true,
   "subLayerIds": null,
   "minScale": 0,
   "maxScale": 0
  },
  {
   "id": 100,
   "name": "GHYDPLda",
   "parentLayerId": 98,
   "defaultVisibility": true,
   "subLayerIds": null,
   "minScale": 0,
   "maxScale": 0
  },
  {
   "id": 101,
   "name": "GAREXIANPL",
   "parentLayerId": 98,
   "defaultVisibility": true,
   "subLayerIds": null,
   "minScale": 0,
   "maxScale": 0
  },
  {
   "id": 102,
   "name": "11",
   "parentLayerId": -1,
   "defaultVisibility": false,
   "subLayerIds": [
    103,
    104,
    105,
    106
   ],
   "minScale": 300000,
   "maxScale": 250000
  },
  {
   "id": 103,
   "name": "境界(线)",
   "parentLayerId": 102,
   "defaultVisibility": true,
   "subLayerIds": null,
   "minScale": 0,
   "maxScale": 0
  },
  {
   "id": 104,
   "name": "GHYDPLda",
   "parentLayerId": 102,
   "defaultVisibility": true,
   "subLayerIds": null,
   "minScale": 0,
   "maxScale": 0
  },
  {
   "id": 105,
   "name": "GAREXIANPL",
   "parentLayerId": 102,
   "defaultVisibility": true,
   "subLayerIds": null,
   "minScale": 0,
   "maxScale": 0
  },
  {
   "id": 106,
   "name": "BuffRing",
   "parentLayerId": 102,
   "defaultVisibility": true,
   "subLayerIds": null,
   "minScale": 0,
   "maxScale": 0
  },
  {
   "id": 107,
   "name": "10",
   "parentLayerId": -1,
   "defaultVisibility": false,
   "subLayerIds": [
    108,
    109,
    110
   ],
   "minScale": 600000,
   "maxScale": 550000
  },
  {
   "id": 108,
   "name": "境界(线)",
   "parentLayerId": 107,
   "defaultVisibility": true,
   "subLayerIds": null,
   "minScale": 0,
   "maxScale": 0
  },
  {
   "id": 109,
   "name": "GAREXIANPL",
   "parentLayerId": 107,
   "defaultVisibility": true,
   "subLayerIds": null,
   "minScale": 0,
   "maxScale": 0
  },
  {
   "id": 110,
   "name": "BuffRing",
   "parentLayerId": 107,
   "defaultVisibility": true,
   "subLayerIds": null,
   "minScale": 0,
   "maxScale": 0
  },
  {
   "id": 111,
   "name": "9",
   "parentLayerId": -1,
   "defaultVisibility": false,
   "subLayerIds": [
    112,
    113,
    114
   ],
   "minScale": 1160000,
   "maxScale": 1150000
  },
  {
   "id": 112,
   "name": "境界(线)",
   "parentLayerId": 111,
   "defaultVisibility": true,
   "subLayerIds": null,
   "minScale": 0,
   "maxScale": 0
  },
  {
   "id": 113,
   "name": "GAREXIANPL",
   "parentLayerId": 111,
   "defaultVisibility": true,
   "subLayerIds": null,
   "minScale": 0,
   "maxScale": 0
  },
  {
   "id": 114,
   "name": "BuffRing",
   "parentLayerId": 111,
   "defaultVisibility": true,
   "subLayerIds": null,
   "minScale": 0,
   "maxScale": 0
  },
  {
   "id": 115,
   "name": "GARESHIPL衬底",
   "parentLayerId": -1,
   "defaultVisibility": false,
   "subLayerIds": null,
   "minScale": 0,
   "maxScale": 4000
  }
 ],
 "tables": [],
 "spatialReference": {
  "wkid": 4326,
  "latestWkid": 4326
 },
 "singleFusedMapCache": true,
 "tileInfo": {
  "rows": 256,
  "cols": 256,
  "dpi": 96,
  "format": "PNG24",
  "compressionQuality": 0,
  "origin": {
   "x": -180,
   "y": 90
  },
  "spatialReference": {
   "wkid": 4326,
   "latestWkid": 4326
  },
  "lods": [
   {
    "level": 0,
    "resolution": 0.0027465820243834883,
    "scale": 1154287.47
   },
   {
    "level": 1,
    "resolution": 0.0013732910240890493,
    "scale": 577143.74
   },
   {
    "level": 2,
    "resolution": 6.866455120445247E-4,
    "scale": 288571.87
   },
   {
    "level": 3,
    "resolution": 3.4332274412495725E-4,
    "scale": 144285.93
   },
   {
    "level": 4,
    "resolution": 1.7166138395978368E-4,
    "scale": 72142.97
   },
   {
    "level": 5,
    "resolution": 8.583068008258681E-5,
    "scale": 36071.48
   },
   {
    "level": 6,
    "resolution": 4.2915344237999825E-5,
    "scale": 18035.741763721453
   },
   {
    "level": 7,
    "resolution": 2.1457672119099913E-5,
    "scale": 9017.870881902752
   },
   {
    "level": 8,
    "resolution": 1.0728836059570267E-5,
    "scale": 4508.935440959912
   },
   {
    "level": 9,
    "resolution": 5.364418029785134E-6,
    "scale": 2254.4677204799564
   },
   {
    "level": 10,
    "resolution": 2.682209014892567E-6,
    "scale": 1127.2338602399782
   },
   {
    "level": 11,
    "resolution": 1.3411045074462745E-6,
    "scale": 563.6169301199852
   }
  ]
 },
 "initialExtent": {
  "xmin": 116.98172350364965,
  "ymin": 33.632780629245374,
  "xmax": 116.98305119711202,
  "ymax": 33.63355578765068,
  "spatialReference": {
   "cs": "gcs",
   "wkid": 4326
  }
 },
 "fullExtent": {
  "xmin": 116.12840555768796,
  "ymin": 33.25117627001588,
  "xmax": 118.21469599592089,
  "ymax": 34.67173765963366,
  "spatialReference": {
   "cs": "gcs",
   "wkid": 4326
  }
 },
 "minScale": 1154287.47,
 "maxScale": 4508.935440959912,
 "units": "esriDecimalDegrees",
 "supportedImageFormatTypes": "PNG32,PNG24,PNG,JPG,DIB,TIFF,EMF,PS,PDF,GIF,SVG,SVGZ,BMP",
 "documentInfo": {
  "Title": "",
  "Author": "",
  "Comments": "",
  "Subject": "",
  "Category": "",
  "AntialiasingMode": "None",
  "TextAntialiasingMode": "Force",
  "Keywords": ""
 },
 "capabilities": "Map,Query,Data",
 "supportedQueryFormats": "JSON, AMF",
 "exportTilesAllowed": false,
 "maxRecordCount": 1000,
 "maxImageHeight": 4096,
 "maxImageWidth": 4096,
 "supportedExtensions": "KmlServer"
}
