{
 "currentVersion": 10.22,
 "serviceDescription": "",
 "mapName": "Layers",
 "description": "",
 "copyrightText": "",
 "supportsDynamicLayers": false,
 "layers": [
  {
   "id": 0,
   "name": "GAREXIANPL",
   "parentLayerId": -1,
   "defaultVisibility": true,
   "subLayerIds": null,
   "minScale": 0,
   "maxScale": 0
  }
 ],
 "tables": [],
 "spatialReference": {
  "wkid": 4326,
  "latestWkid": 4326
 },
 "singleFusedMapCache": true,
 "tileInfo": {
  "rows": 256,
  "cols": 256,
  "dpi": 96,
  "format": "PNG24",
  "compressionQuality": 0,
  "origin": {
   "x": -180,
   "y": 90
  },
  "spatialReference": {
   "wkid": 4326,
   "latestWkid": 4326
  },
  "lods": [
   {
    "level": 0,
    "resolution": 0.0027465820243834896,
    "scale": 1154287.47
   },
   {
    "level": 1,
    "resolution": 0.0013732910240890498,
    "scale": 577143.74
   },
   {
    "level": 2,
    "resolution": 6.866455120445249E-4,
    "scale": 288571.87
   },
   {
    "level": 3,
    "resolution": 3.433227441249574E-4,
    "scale": 144285.93
   },
   {
    "level": 4,
    "resolution": 1.7166138395978374E-4,
    "scale": 72142.97
   },
   {
    "level": 5,
    "resolution": 8.583068008258684E-5,
    "scale": 36071.48
   },
   {
    "level": 6,
    "resolution": 4.291534423799984E-5,
    "scale": 18035.741763721453
   },
   {
    "level": 7,
    "resolution": 2.145767211909992E-5,
    "scale": 9017.870881902752
   },
   {
    "level": 8,
    "resolution": 1.072883605957027E-5,
    "scale": 4508.935440959912
   },
   {
    "level": 9,
    "resolution": 5.364418029785136E-6,
    "scale": 2254.4677204799564
   },
   {
    "level": 10,
    "resolution": 2.682209014892568E-6,
    "scale": 1127.2338602399782
   },
   {
    "level": 11,
    "resolution": 1.3411045074462749E-6,
    "scale": 563.6169301199852
   }
  ]
 },
 "initialExtent": {
  "xmin": 116.30054409058862,
  "ymin": 33.978323220694115,
  "xmax": 117.53429774854875,
  "ymax": 34.69863596241225,
  "spatialReference": {
   "cs": "gcs",
   "wkid": 4326
  }
 },
 "fullExtent": {
  "xmin": 116.15043370748542,
  "ymin": 33.269404897350924,
  "xmax": 118.19264008297439,
  "ymax": 34.65369951609251,
  "spatialReference": {
   "cs": "gcs",
   "wkid": 4326
  }
 },
 "minScale": 1154287.47,
 "maxScale": 4508.935440959912,
 "units": "esriDecimalDegrees",
 "supportedImageFormatTypes": "PNG32,PNG24,PNG,JPG,DIB,TIFF,EMF,PS,PDF,GIF,SVG,SVGZ,BMP",
 "documentInfo": {
  "Title": "",
  "Author": "",
  "Comments": "",
  "Subject": "",
  "Category": "",
  "AntialiasingMode": "None",
  "TextAntialiasingMode": "Force",
  "Keywords": ""
 },
 "capabilities": "Map,Query,Data",
 "supportedQueryFormats": "JSON, AMF",
 "exportTilesAllowed": false,
 "maxRecordCount": 1000,
 "maxImageHeight": 4096,
 "maxImageWidth": 4096,
 "supportedExtensions": "KmlServer"
}
